BEGIN:VCALENDAR
VERSION:2.0
PRODID:spatie/icalendar-generator
NAME:Surgent's Implementing Subscription Pricing to Your Practice
X-WR-CALNAME:Surgent's Implementing Subscription Pricing to Your Practice
BEGIN:VTIMEZONE
TZID:America/Chicago
BEGIN:STANDARD
DTSTART:20261101T010000
TZOFFSETFROM:-0500
TZOFFSETTO:-0600
END:STANDARD
BEGIN:DAYLIGHT
DTSTART:20270314T010000
TZOFFSETFROM:-0600
TZOFFSETTO:-0500
END:DAYLIGHT
END:VTIMEZONE
BEGIN:VTIMEZONE
TZID:UTC
BEGIN:STANDARD
DTSTART:20250726T035041
TZOFFSETFROM:+0000
TZOFFSETTO:+0000
END:STANDARD
END:VTIMEZONE
BEGIN:VEVENT
UID:69e8459131b9a
DTSTAMP:20260422T035041Z
SUMMARY:Surgent's Implementing Subscription Pricing to Your Practice
URL:https://ms-cpa.org/catalog/events/4336262-surgents-implementing-subscri
 ption-pricing-to-your-practice-2027-11-02
DTSTART;TZID=America/Chicago:20270211T090000
DTEND;TZID=America/Chicago:20270211T110000
END:VEVENT
END:VCALENDAR