BEGIN:VCALENDAR
VERSION:2.0
PRODID:spatie/icalendar-generator
NAME:Surgent's Preparing and Writing Findings in Yellow Book and Single Aud
 its
X-WR-CALNAME:Surgent's Preparing and Writing Findings in Yellow Book and Si
 ngle Audits
BEGIN:VTIMEZONE
TZID:America/Chicago
BEGIN:STANDARD
DTSTART:20261101T010000
TZOFFSETFROM:-0500
TZOFFSETTO:-0600
END:STANDARD
BEGIN:DAYLIGHT
DTSTART:20270314T010000
TZOFFSETFROM:-0600
TZOFFSETTO:-0500
END:DAYLIGHT
END:VTIMEZONE
BEGIN:VTIMEZONE
TZID:UTC
BEGIN:STANDARD
DTSTART:20250726T035852
TZOFFSETFROM:+0000
TZOFFSETTO:+0000
END:STANDARD
END:VTIMEZONE
BEGIN:VEVENT
UID:69e8477c790dc
DTSTAMP:20260422T035852Z
SUMMARY:Surgent's Preparing and Writing Findings in Yellow Book and Single 
 Audits
URL:https://ms-cpa.org/catalog/events/4336228-surgents-preparing-and-writin
 g-findings-in-yellow-book-and-single-audits-2027-11-02
DTSTART;TZID=America/Chicago:20270211T123000
DTEND;TZID=America/Chicago:20270211T163000
END:VEVENT
END:VCALENDAR