BEGIN:VCALENDAR
VERSION:2.0
PRODID:spatie/icalendar-generator
NAME:Surgent's Understanding How the IRS Rewards Whistleblowers
X-WR-CALNAME:Surgent's Understanding How the IRS Rewards Whistleblowers
BEGIN:VTIMEZONE
TZID:America/Chicago
BEGIN:STANDARD
DTSTART:20261101T010000
TZOFFSETFROM:-0500
TZOFFSETTO:-0600
END:STANDARD
BEGIN:DAYLIGHT
DTSTART:20270314T010000
TZOFFSETFROM:-0600
TZOFFSETTO:-0500
END:DAYLIGHT
END:VTIMEZONE
BEGIN:VTIMEZONE
TZID:UTC
BEGIN:STANDARD
DTSTART:20250726T035312
TZOFFSETFROM:+0000
TZOFFSETTO:+0000
END:STANDARD
END:VTIMEZONE
BEGIN:VEVENT
UID:69e8462813773
DTSTAMP:20260422T035312Z
SUMMARY:Surgent's Understanding How the IRS Rewards Whistleblowers
URL:https://ms-cpa.org/catalog/events/4336049-surgents-understanding-how-th
 e-irs-rewards-whistleblowers-2027-10-02
DTSTART;TZID=America/Chicago:20270210T080000
DTEND;TZID=America/Chicago:20270210T100000
END:VEVENT
END:VCALENDAR