BEGIN:VCALENDAR
VERSION:2.0
PRODID:spatie/icalendar-generator
NAME:Surgent's Understanding S Corporation Taxation: Compensation Issues an
 d Entity-Level Taxes
X-WR-CALNAME:Surgent's Understanding S Corporation Taxation: Compensation I
 ssues and Entity-Level Taxes
BEGIN:VTIMEZONE
TZID:America/Chicago
BEGIN:STANDARD
DTSTART:20261101T010000
TZOFFSETFROM:-0500
TZOFFSETTO:-0600
END:STANDARD
BEGIN:DAYLIGHT
DTSTART:20270314T010000
TZOFFSETFROM:-0600
TZOFFSETTO:-0500
END:DAYLIGHT
END:VTIMEZONE
BEGIN:VTIMEZONE
TZID:UTC
BEGIN:STANDARD
DTSTART:20250726T040227
TZOFFSETFROM:+0000
TZOFFSETTO:+0000
END:STANDARD
END:VTIMEZONE
BEGIN:VEVENT
UID:69e84853b859b
DTSTAMP:20260422T040227Z
SUMMARY:Surgent's Understanding S Corporation Taxation: Compensation Issues
  and Entity-Level Taxes
URL:https://ms-cpa.org/catalog/events/4336021-surgents-understanding-s-corp
 oration-taxation-compensation-issues-and-entity-level-taxes-2027-10-02
DTSTART;TZID=America/Chicago:20270210T080000
DTEND;TZID=America/Chicago:20270210T100000
END:VEVENT
END:VCALENDAR