BEGIN:VCALENDAR
VERSION:2.0
PRODID:spatie/icalendar-generator
NAME:Surgent's Representing a Client in an IRS Audit
X-WR-CALNAME:Surgent's Representing a Client in an IRS Audit
BEGIN:VTIMEZONE
TZID:America/Chicago
BEGIN:STANDARD
DTSTART:20261101T010000
TZOFFSETFROM:-0500
TZOFFSETTO:-0600
END:STANDARD
BEGIN:DAYLIGHT
DTSTART:20270314T010000
TZOFFSETFROM:-0600
TZOFFSETTO:-0500
END:DAYLIGHT
END:VTIMEZONE
BEGIN:VTIMEZONE
TZID:UTC
BEGIN:STANDARD
DTSTART:20250726T035337
TZOFFSETFROM:+0000
TZOFFSETTO:+0000
END:STANDARD
END:VTIMEZONE
BEGIN:VEVENT
UID:69e846411d14f
DTSTAMP:20260422T035337Z
SUMMARY:Surgent's Representing a Client in an IRS Audit
URL:https://ms-cpa.org/catalog/events/4335997-surgents-representing-a-clien
 t-in-an-irs-audit-2027-10-02
DTSTART;TZID=America/Chicago:20270210T130000
DTEND;TZID=America/Chicago:20270210T160000
END:VEVENT
END:VCALENDAR