BEGIN:VCALENDAR
VERSION:2.0
PRODID:spatie/icalendar-generator
NAME:Surgent's Ensure Your Accounting Team Is Operating at Peak Performance
  Through Engagement and Motivation
X-WR-CALNAME:Surgent's Ensure Your Accounting Team Is Operating at Peak Per
 formance Through Engagement and Motivation
BEGIN:VTIMEZONE
TZID:America/Chicago
BEGIN:STANDARD
DTSTART:20261101T010000
TZOFFSETFROM:-0500
TZOFFSETTO:-0600
END:STANDARD
BEGIN:DAYLIGHT
DTSTART:20270314T010000
TZOFFSETFROM:-0600
TZOFFSETTO:-0500
END:DAYLIGHT
END:VTIMEZONE
BEGIN:VTIMEZONE
TZID:UTC
BEGIN:STANDARD
DTSTART:20250726T040227
TZOFFSETFROM:+0000
TZOFFSETTO:+0000
END:STANDARD
END:VTIMEZONE
BEGIN:VEVENT
UID:69e84853b729e
DTSTAMP:20260422T040227Z
SUMMARY:Surgent's Ensure Your Accounting Team Is Operating at Peak Performa
 nce Through Engagement and Motivation
URL:https://ms-cpa.org/catalog/events/4335960-surgents-ensure-your-accounti
 ng-team-is-operating-at-peak-performance-through-engagement-and-motivation
 -2027-10-02
DTSTART;TZID=America/Chicago:20270210T120000
DTEND;TZID=America/Chicago:20270210T140000
END:VEVENT
END:VCALENDAR