BEGIN:VCALENDAR
VERSION:2.0
PRODID:spatie/icalendar-generator
NAME:Surgent's International Tax Challenges and Opportunities for U.S. File
 rs
X-WR-CALNAME:Surgent's International Tax Challenges and Opportunities for U
 .S. Filers
BEGIN:VTIMEZONE
TZID:America/Chicago
BEGIN:STANDARD
DTSTART:20261101T010000
TZOFFSETFROM:-0500
TZOFFSETTO:-0600
END:STANDARD
BEGIN:DAYLIGHT
DTSTART:20270314T010000
TZOFFSETFROM:-0600
TZOFFSETTO:-0500
END:DAYLIGHT
END:VTIMEZONE
BEGIN:VTIMEZONE
TZID:UTC
BEGIN:STANDARD
DTSTART:20250726T040835
TZOFFSETFROM:+0000
TZOFFSETTO:+0000
END:STANDARD
END:VTIMEZONE
BEGIN:VEVENT
UID:69e849c302f8f
DTSTAMP:20260422T040835Z
SUMMARY:Surgent's International Tax Challenges and Opportunities for U.S. F
 ilers
URL:https://ms-cpa.org/catalog/events/4335824-surgents-international-tax-ch
 allenges-and-opportunities-for-us-filers-2027-09-02
DTSTART;TZID=America/Chicago:20270209T090000
DTEND;TZID=America/Chicago:20270209T120000
END:VEVENT
END:VCALENDAR