BEGIN:VCALENDAR
VERSION:2.0
PRODID:spatie/icalendar-generator
NAME:Surgent's Fundamentals of Public Charity Taxation and Form 990
X-WR-CALNAME:Surgent's Fundamentals of Public Charity Taxation and Form 990
BEGIN:VTIMEZONE
TZID:America/Chicago
BEGIN:STANDARD
DTSTART:20261101T010000
TZOFFSETFROM:-0500
TZOFFSETTO:-0600
END:STANDARD
BEGIN:DAYLIGHT
DTSTART:20270314T010000
TZOFFSETFROM:-0600
TZOFFSETTO:-0500
END:DAYLIGHT
END:VTIMEZONE
BEGIN:VTIMEZONE
TZID:UTC
BEGIN:STANDARD
DTSTART:20250726T040115
TZOFFSETFROM:+0000
TZOFFSETTO:+0000
END:STANDARD
END:VTIMEZONE
BEGIN:VEVENT
UID:69e8480b3fb72
DTSTAMP:20260422T040115Z
SUMMARY:Surgent's Fundamentals of Public Charity Taxation and Form 990
URL:https://ms-cpa.org/catalog/events/4335794-surgents-fundamentals-of-publ
 ic-charity-taxation-and-form-990-2027-09-02
DTSTART;TZID=America/Chicago:20270209T120000
DTEND;TZID=America/Chicago:20270209T160000
END:VEVENT
END:VCALENDAR