BEGIN:VCALENDAR
VERSION:2.0
PRODID:spatie/icalendar-generator
NAME:Surgent's Excel Lookups: Moving Beyond VLOOKUP Limitations
X-WR-CALNAME:Surgent's Excel Lookups: Moving Beyond VLOOKUP Limitations
BEGIN:VTIMEZONE
TZID:America/Chicago
BEGIN:STANDARD
DTSTART:20261101T010000
TZOFFSETFROM:-0500
TZOFFSETTO:-0600
END:STANDARD
BEGIN:DAYLIGHT
DTSTART:20270314T010000
TZOFFSETFROM:-0600
TZOFFSETTO:-0500
END:DAYLIGHT
END:VTIMEZONE
BEGIN:VTIMEZONE
TZID:UTC
BEGIN:STANDARD
DTSTART:20250726T035413
TZOFFSETFROM:+0000
TZOFFSETTO:+0000
END:STANDARD
END:VTIMEZONE
BEGIN:VEVENT
UID:69e84665b92ba
DTSTAMP:20260422T035413Z
SUMMARY:Surgent's Excel Lookups: Moving Beyond VLOOKUP Limitations
URL:https://ms-cpa.org/catalog/events/4335613-surgents-excel-lookups-moving
 -beyond-vlookup-limitations-2027-08-02
DTSTART;TZID=America/Chicago:20270208T100000
DTEND;TZID=America/Chicago:20270208T120000
END:VEVENT
END:VCALENDAR