BEGIN:VCALENDAR
VERSION:2.0
PRODID:spatie/icalendar-generator
NAME:Surgent's Introduction to Required Minimum Distributions
X-WR-CALNAME:Surgent's Introduction to Required Minimum Distributions
BEGIN:VTIMEZONE
TZID:America/Chicago
BEGIN:STANDARD
DTSTART:20261101T010000
TZOFFSETFROM:-0500
TZOFFSETTO:-0600
END:STANDARD
BEGIN:DAYLIGHT
DTSTART:20270314T010000
TZOFFSETFROM:-0600
TZOFFSETTO:-0500
END:DAYLIGHT
END:VTIMEZONE
BEGIN:VTIMEZONE
TZID:UTC
BEGIN:STANDARD
DTSTART:20250726T034834
TZOFFSETFROM:+0000
TZOFFSETTO:+0000
END:STANDARD
END:VTIMEZONE
BEGIN:VEVENT
UID:69e845128cfb9
DTSTAMP:20260422T034834Z
SUMMARY:Surgent's Introduction to Required Minimum Distributions
URL:https://ms-cpa.org/catalog/events/4335556-surgents-introduction-to-requ
 ired-minimum-distributions-2027-05-02
DTSTART;TZID=America/Chicago:20270205T130000
DTEND;TZID=America/Chicago:20270205T150000
END:VEVENT
END:VCALENDAR