BEGIN:VCALENDAR
VERSION:2.0
PRODID:spatie/icalendar-generator
NAME:Surgent's Skills to Enhance Personal and Professional Networks
X-WR-CALNAME:Surgent's Skills to Enhance Personal and Professional Networks
BEGIN:VTIMEZONE
TZID:America/Chicago
BEGIN:STANDARD
DTSTART:20261101T010000
TZOFFSETFROM:-0500
TZOFFSETTO:-0600
END:STANDARD
BEGIN:DAYLIGHT
DTSTART:20270314T010000
TZOFFSETFROM:-0600
TZOFFSETTO:-0500
END:DAYLIGHT
END:VTIMEZONE
BEGIN:VTIMEZONE
TZID:UTC
BEGIN:STANDARD
DTSTART:20250726T035755
TZOFFSETFROM:+0000
TZOFFSETTO:+0000
END:STANDARD
END:VTIMEZONE
BEGIN:VEVENT
UID:69e847432da32
DTSTAMP:20260422T035755Z
SUMMARY:Surgent's Skills to Enhance Personal and Professional Networks
URL:https://ms-cpa.org/catalog/events/4335554-surgents-skills-to-enhance-pe
 rsonal-and-professional-networks-2027-05-02
DTSTART;TZID=America/Chicago:20270205T090000
DTEND;TZID=America/Chicago:20270205T110000
END:VEVENT
END:VCALENDAR