BEGIN:VCALENDAR
VERSION:2.0
PRODID:spatie/icalendar-generator
NAME:Surgent's Getting Ready for Busy Season: Review Individual Tax Form Ch
 anges
X-WR-CALNAME:Surgent's Getting Ready for Busy Season: Review Individual Tax
  Form Changes
BEGIN:VTIMEZONE
TZID:America/Chicago
BEGIN:STANDARD
DTSTART:20261101T010000
TZOFFSETFROM:-0500
TZOFFSETTO:-0600
END:STANDARD
BEGIN:DAYLIGHT
DTSTART:20270314T010000
TZOFFSETFROM:-0600
TZOFFSETTO:-0500
END:DAYLIGHT
END:VTIMEZONE
BEGIN:VTIMEZONE
TZID:UTC
BEGIN:STANDARD
DTSTART:20250726T040038
TZOFFSETFROM:+0000
TZOFFSETTO:+0000
END:STANDARD
END:VTIMEZONE
BEGIN:VEVENT
UID:69e847e6bfc79
DTSTAMP:20260422T040038Z
SUMMARY:Surgent's Getting Ready for Busy Season: Review Individual Tax Form
  Changes
URL:https://ms-cpa.org/catalog/events/4335393-surgents-getting-ready-for-bu
 sy-season-review-individual-tax-form-changes-2027-04-02
DTSTART;TZID=America/Chicago:20270204T120000
DTEND;TZID=America/Chicago:20270204T140000
END:VEVENT
END:VCALENDAR