BEGIN:VCALENDAR
VERSION:2.0
PRODID:spatie/icalendar-generator
NAME:Surgent's Succession Planning for the Small Business Owner: Finding th
 e Exit Ramp
X-WR-CALNAME:Surgent's Succession Planning for the Small Business Owner: Fi
 nding the Exit Ramp
BEGIN:VTIMEZONE
TZID:America/Chicago
BEGIN:STANDARD
DTSTART:20261101T010000
TZOFFSETFROM:-0500
TZOFFSETTO:-0600
END:STANDARD
BEGIN:DAYLIGHT
DTSTART:20270314T010000
TZOFFSETFROM:-0600
TZOFFSETTO:-0500
END:DAYLIGHT
END:VTIMEZONE
BEGIN:VTIMEZONE
TZID:UTC
BEGIN:STANDARD
DTSTART:20250726T040039
TZOFFSETFROM:+0000
TZOFFSETTO:+0000
END:STANDARD
END:VTIMEZONE
BEGIN:VEVENT
UID:69e847e76b4e8
DTSTAMP:20260422T040039Z
SUMMARY:Surgent's Succession Planning for the Small Business Owner: Finding
  the Exit Ramp
URL:https://ms-cpa.org/catalog/events/4335367-surgents-succession-planning-
 for-the-small-business-owner-finding-the-exit-ramp-2027-04-02
DTSTART;TZID=America/Chicago:20270204T123000
DTEND;TZID=America/Chicago:20270204T163000
END:VEVENT
END:VCALENDAR