BEGIN:VCALENDAR
VERSION:2.0
PRODID:spatie/icalendar-generator
NAME:Surgent's A Guide to Nonqualified Deferred Compensation
X-WR-CALNAME:Surgent's A Guide to Nonqualified Deferred Compensation
BEGIN:VTIMEZONE
TZID:America/Chicago
BEGIN:STANDARD
DTSTART:20261101T010000
TZOFFSETFROM:-0500
TZOFFSETTO:-0600
END:STANDARD
BEGIN:DAYLIGHT
DTSTART:20270314T010000
TZOFFSETFROM:-0600
TZOFFSETTO:-0500
END:DAYLIGHT
END:VTIMEZONE
BEGIN:VTIMEZONE
TZID:UTC
BEGIN:STANDARD
DTSTART:20250726T034915
TZOFFSETFROM:+0000
TZOFFSETTO:+0000
END:STANDARD
END:VTIMEZONE
BEGIN:VEVENT
UID:69e8453bab77d
DTSTAMP:20260422T034915Z
SUMMARY:Surgent's A Guide to Nonqualified Deferred Compensation
URL:https://ms-cpa.org/catalog/events/4335270-surgents-a-guide-to-nonqualif
 ied-deferred-compensation-2027-03-02
DTSTART;TZID=America/Chicago:20270203T130000
DTEND;TZID=America/Chicago:20270203T150000
END:VEVENT
END:VCALENDAR