BEGIN:VCALENDAR
VERSION:2.0
PRODID:spatie/icalendar-generator
NAME:Surgent's Choosing the Right Business Entity
X-WR-CALNAME:Surgent's Choosing the Right Business Entity
BEGIN:VTIMEZONE
TZID:America/Chicago
BEGIN:STANDARD
DTSTART:20261101T010000
TZOFFSETFROM:-0500
TZOFFSETTO:-0600
END:STANDARD
BEGIN:DAYLIGHT
DTSTART:20270314T010000
TZOFFSETFROM:-0600
TZOFFSETTO:-0500
END:DAYLIGHT
END:VTIMEZONE
BEGIN:VTIMEZONE
TZID:UTC
BEGIN:STANDARD
DTSTART:20250726T035305
TZOFFSETFROM:+0000
TZOFFSETTO:+0000
END:STANDARD
END:VTIMEZONE
BEGIN:VEVENT
UID:69e8462157fb3
DTSTAMP:20260422T035305Z
SUMMARY:Surgent's Choosing the Right Business Entity
URL:https://ms-cpa.org/catalog/events/4335258-surgents-choosing-the-right-b
 usiness-entity-2027-03-02
DTSTART;TZID=America/Chicago:20270203T140000
DTEND;TZID=America/Chicago:20270203T160000
END:VEVENT
END:VCALENDAR