BEGIN:VCALENDAR
VERSION:2.0
PRODID:spatie/icalendar-generator
NAME:Surgent's Getting Ahead: The Art of Marketing for CPAs
X-WR-CALNAME:Surgent's Getting Ahead: The Art of Marketing for CPAs
BEGIN:VTIMEZONE
TZID:America/Chicago
BEGIN:STANDARD
DTSTART:20261101T010000
TZOFFSETFROM:-0500
TZOFFSETTO:-0600
END:STANDARD
BEGIN:DAYLIGHT
DTSTART:20270314T010000
TZOFFSETFROM:-0600
TZOFFSETTO:-0500
END:DAYLIGHT
END:VTIMEZONE
BEGIN:VTIMEZONE
TZID:UTC
BEGIN:STANDARD
DTSTART:20250726T040100
TZOFFSETFROM:+0000
TZOFFSETTO:+0000
END:STANDARD
END:VTIMEZONE
BEGIN:VEVENT
UID:69e847fca5308
DTSTAMP:20260422T040100Z
SUMMARY:Surgent's Getting Ahead: The Art of Marketing for CPAs
URL:https://ms-cpa.org/catalog/events/4335219-surgents-getting-ahead-the-ar
 t-of-marketing-for-cpas-2027-03-02
DTSTART;TZID=America/Chicago:20270203T090000
DTEND;TZID=America/Chicago:20270203T110000
END:VEVENT
END:VCALENDAR