BEGIN:VCALENDAR
VERSION:2.0
PRODID:spatie/icalendar-generator
NAME:Surgent's Autonomous Agents in Audit and Assurance
X-WR-CALNAME:Surgent's Autonomous Agents in Audit and Assurance
BEGIN:VTIMEZONE
TZID:America/Chicago
BEGIN:STANDARD
DTSTART:20261101T010000
TZOFFSETFROM:-0500
TZOFFSETTO:-0600
END:STANDARD
BEGIN:DAYLIGHT
DTSTART:20270314T010000
TZOFFSETFROM:-0600
TZOFFSETTO:-0500
END:DAYLIGHT
END:VTIMEZONE
BEGIN:VTIMEZONE
TZID:UTC
BEGIN:STANDARD
DTSTART:20250726T035209
TZOFFSETFROM:+0000
TZOFFSETTO:+0000
END:STANDARD
END:VTIMEZONE
BEGIN:VEVENT
UID:69e845e98b405
DTSTAMP:20260422T035209Z
SUMMARY:Surgent's Autonomous Agents in Audit and Assurance
URL:https://ms-cpa.org/catalog/events/4335198-surgents-autonomous-agents-in
 -audit-and-assurance-2027-03-02
DTSTART;TZID=America/Chicago:20270203T140000
DTEND;TZID=America/Chicago:20270203T160000
END:VEVENT
END:VCALENDAR