BEGIN:VCALENDAR
VERSION:2.0
PRODID:spatie/icalendar-generator
NAME:Surgent's Navigating Your Client Through the IRS Appeals Process
X-WR-CALNAME:Surgent's Navigating Your Client Through the IRS Appeals Proce
 ss
BEGIN:VTIMEZONE
TZID:America/Chicago
BEGIN:STANDARD
DTSTART:20261101T010000
TZOFFSETFROM:-0500
TZOFFSETTO:-0600
END:STANDARD
BEGIN:DAYLIGHT
DTSTART:20270314T010000
TZOFFSETFROM:-0600
TZOFFSETTO:-0500
END:DAYLIGHT
END:VTIMEZONE
BEGIN:VTIMEZONE
TZID:UTC
BEGIN:STANDARD
DTSTART:20250726T034926
TZOFFSETFROM:+0000
TZOFFSETTO:+0000
END:STANDARD
END:VTIMEZONE
BEGIN:VEVENT
UID:69e84546c830d
DTSTAMP:20260422T034926Z
SUMMARY:Surgent's Navigating Your Client Through the IRS Appeals Process
URL:https://ms-cpa.org/catalog/events/4335162-surgents-navigating-your-clie
 nt-through-the-irs-appeals-process-2027-02-02
DTSTART;TZID=America/Chicago:20270202T123000
DTEND;TZID=America/Chicago:20270202T163000
END:VEVENT
END:VCALENDAR