BEGIN:VCALENDAR
VERSION:2.0
PRODID:spatie/icalendar-generator
NAME:Surgent's Use the Data Model to Build More Powerful PivotTables
X-WR-CALNAME:Surgent's Use the Data Model to Build More Powerful PivotTable
 s
BEGIN:VTIMEZONE
TZID:America/Chicago
BEGIN:STANDARD
DTSTART:20261101T010000
TZOFFSETFROM:-0500
TZOFFSETTO:-0600
END:STANDARD
BEGIN:DAYLIGHT
DTSTART:20270314T010000
TZOFFSETFROM:-0600
TZOFFSETTO:-0500
END:DAYLIGHT
END:VTIMEZONE
BEGIN:VTIMEZONE
TZID:UTC
BEGIN:STANDARD
DTSTART:20250726T035330
TZOFFSETFROM:+0000
TZOFFSETTO:+0000
END:STANDARD
END:VTIMEZONE
BEGIN:VEVENT
UID:69e8463a8209e
DTSTAMP:20260422T035330Z
SUMMARY:Surgent's Use the Data Model to Build More Powerful PivotTables
URL:https://ms-cpa.org/catalog/events/4335087-surgents-use-the-data-model-t
 o-build-more-powerful-pivottables-2027-02-02
DTSTART;TZID=America/Chicago:20270202T090000
DTEND;TZID=America/Chicago:20270202T110000
END:VEVENT
END:VCALENDAR