BEGIN:VCALENDAR
VERSION:2.0
PRODID:spatie/icalendar-generator
NAME:Surgent's Agentic AI Foundations for Finance and Accounting
X-WR-CALNAME:Surgent's Agentic AI Foundations for Finance and Accounting
BEGIN:VTIMEZONE
TZID:America/Chicago
BEGIN:STANDARD
DTSTART:20261101T010000
TZOFFSETFROM:-0500
TZOFFSETTO:-0600
END:STANDARD
BEGIN:DAYLIGHT
DTSTART:20270314T010000
TZOFFSETFROM:-0600
TZOFFSETTO:-0500
END:DAYLIGHT
END:VTIMEZONE
BEGIN:VTIMEZONE
TZID:UTC
BEGIN:STANDARD
DTSTART:20250726T040309
TZOFFSETFROM:+0000
TZOFFSETTO:+0000
END:STANDARD
END:VTIMEZONE
BEGIN:VEVENT
UID:69e8487d632f3
DTSTAMP:20260422T040309Z
SUMMARY:Surgent's Agentic AI Foundations for Finance and Accounting
URL:https://ms-cpa.org/catalog/events/4335063-surgents-agentic-ai-foundatio
 ns-for-finance-and-accounting-2027-02-02
DTSTART;TZID=America/Chicago:20270202T140000
DTEND;TZID=America/Chicago:20270202T160000
END:VEVENT
END:VCALENDAR