BEGIN:VCALENDAR
VERSION:2.0
PRODID:spatie/icalendar-generator
NAME:Surgent's Understanding Partnership Taxation: Debt Allocations
X-WR-CALNAME:Surgent's Understanding Partnership Taxation: Debt Allocations
BEGIN:VTIMEZONE
TZID:America/Chicago
BEGIN:STANDARD
DTSTART:20261101T010000
TZOFFSETFROM:-0500
TZOFFSETTO:-0600
END:STANDARD
BEGIN:DAYLIGHT
DTSTART:20270314T010000
TZOFFSETFROM:-0600
TZOFFSETTO:-0500
END:DAYLIGHT
END:VTIMEZONE
BEGIN:VTIMEZONE
TZID:UTC
BEGIN:STANDARD
DTSTART:20250726T035413
TZOFFSETFROM:+0000
TZOFFSETTO:+0000
END:STANDARD
END:VTIMEZONE
BEGIN:VEVENT
UID:69e8466548942
DTSTAMP:20260422T035413Z
SUMMARY:Surgent's Understanding Partnership Taxation: Debt Allocations
URL:https://ms-cpa.org/catalog/events/4335042-surgents-understanding-partne
 rship-taxation-debt-allocations-2027-01-02
DTSTART;TZID=America/Chicago:20270201T130000
DTEND;TZID=America/Chicago:20270201T150000
END:VEVENT
END:VCALENDAR