BEGIN:VCALENDAR
VERSION:2.0
PRODID:spatie/icalendar-generator
NAME:Surgent's Generative AI and Cybersecurity: Opportunities and Threats
X-WR-CALNAME:Surgent's Generative AI and Cybersecurity: Opportunities and T
 hreats
BEGIN:VTIMEZONE
TZID:America/Chicago
BEGIN:STANDARD
DTSTART:20261101T010000
TZOFFSETFROM:-0500
TZOFFSETTO:-0600
END:STANDARD
BEGIN:DAYLIGHT
DTSTART:20270314T010000
TZOFFSETFROM:-0600
TZOFFSETTO:-0500
END:DAYLIGHT
END:VTIMEZONE
BEGIN:VTIMEZONE
TZID:UTC
BEGIN:STANDARD
DTSTART:20250726T035459
TZOFFSETFROM:+0000
TZOFFSETTO:+0000
END:STANDARD
END:VTIMEZONE
BEGIN:VEVENT
UID:69e846932e5eb
DTSTAMP:20260422T035459Z
SUMMARY:Surgent's Generative AI and Cybersecurity: Opportunities and Threat
 s
URL:https://ms-cpa.org/catalog/events/4334970-surgents-generative-ai-and-cy
 bersecurity-opportunities-and-threats-2027-01-02
DTSTART;TZID=America/Chicago:20270201T090000
DTEND;TZID=America/Chicago:20270201T110000
END:VEVENT
END:VCALENDAR