BEGIN:VCALENDAR
VERSION:2.0
PRODID:spatie/icalendar-generator
NAME:Surgent's Top Business Tax Planning Strategies
X-WR-CALNAME:Surgent's Top Business Tax Planning Strategies
BEGIN:VTIMEZONE
TZID:America/Chicago
BEGIN:STANDARD
DTSTART:20261101T010000
TZOFFSETFROM:-0500
TZOFFSETTO:-0600
END:STANDARD
BEGIN:DAYLIGHT
DTSTART:20270314T010000
TZOFFSETFROM:-0600
TZOFFSETTO:-0500
END:DAYLIGHT
END:VTIMEZONE
BEGIN:VTIMEZONE
TZID:UTC
BEGIN:STANDARD
DTSTART:20250726T062034
TZOFFSETFROM:+0000
TZOFFSETTO:+0000
END:STANDARD
END:VTIMEZONE
BEGIN:VEVENT
UID:69e868b217418
DTSTAMP:20260422T062034Z
SUMMARY:Surgent's Top Business Tax Planning Strategies
URL:https://ms-cpa.org/catalog/events/4334969-surgents-top-business-tax-pla
 nning-strategies-2027-01-02
DTSTART;TZID=America/Chicago:20270201T090000
DTEND;TZID=America/Chicago:20270201T110000
END:VEVENT
END:VCALENDAR