BEGIN:VCALENDAR
VERSION:2.0
PRODID:spatie/icalendar-generator
NAME:The Best Individual Income Tax Update Course by Surgent
X-WR-CALNAME:The Best Individual Income Tax Update Course by Surgent
BEGIN:VTIMEZONE
TZID:America/Chicago
BEGIN:STANDARD
DTSTART:20261101T010000
TZOFFSETFROM:-0500
TZOFFSETTO:-0600
END:STANDARD
BEGIN:DAYLIGHT
DTSTART:20270314T010000
TZOFFSETFROM:-0600
TZOFFSETTO:-0500
END:DAYLIGHT
END:VTIMEZONE
BEGIN:VTIMEZONE
TZID:UTC
BEGIN:STANDARD
DTSTART:20250726T035724
TZOFFSETFROM:+0000
TZOFFSETTO:+0000
END:STANDARD
END:VTIMEZONE
BEGIN:VEVENT
UID:69e8472441806
DTSTAMP:20260422T035724Z
SUMMARY:The Best Individual Income Tax Update Course by Surgent
URL:https://ms-cpa.org/catalog/events/4334944-the-best-individual-income-ta
 x-update-course-by-surgent-2027-01-02
DTSTART;TZID=America/Chicago:20270201T080000
DTEND;TZID=America/Chicago:20270201T160000
END:VEVENT
END:VCALENDAR