BEGIN:VCALENDAR
VERSION:2.0
PRODID:spatie/icalendar-generator
NAME:AHI: Accounting Data Analytics
X-WR-CALNAME:AHI: Accounting Data Analytics
BEGIN:VTIMEZONE
TZID:America/Chicago
BEGIN:STANDARD
DTSTART:20261101T010000
TZOFFSETFROM:-0500
TZOFFSETTO:-0600
END:STANDARD
BEGIN:DAYLIGHT
DTSTART:20270314T010000
TZOFFSETFROM:-0600
TZOFFSETTO:-0500
END:DAYLIGHT
END:VTIMEZONE
BEGIN:VTIMEZONE
TZID:UTC
BEGIN:STANDARD
DTSTART:20250727T160636
TZOFFSETFROM:+0000
TZOFFSETTO:+0000
END:STANDARD
END:VTIMEZONE
BEGIN:VEVENT
UID:69ea438ce7703
DTSTAMP:20260423T160636Z
SUMMARY:AHI: Accounting Data Analytics
URL:https://ms-cpa.org/catalog/events/4309840-ahi-accounting-data-analytics
 -2027-12-01
DTSTART;TZID=America/Chicago:20270112T123000
DTEND;TZID=America/Chicago:20270112T141000
END:VEVENT
END:VCALENDAR