BEGIN:VCALENDAR
VERSION:2.0
PRODID:spatie/icalendar-generator
NAME:AHI: Advanced Management and Leadership Essentials (Mini Course)
X-WR-CALNAME:AHI: Advanced Management and Leadership Essentials (Mini Cours
 e)
BEGIN:VTIMEZONE
TZID:America/Chicago
BEGIN:STANDARD
DTSTART:20261101T010000
TZOFFSETFROM:-0500
TZOFFSETTO:-0600
END:STANDARD
BEGIN:DAYLIGHT
DTSTART:20270314T010000
TZOFFSETFROM:-0600
TZOFFSETTO:-0500
END:DAYLIGHT
END:VTIMEZONE
BEGIN:VTIMEZONE
TZID:UTC
BEGIN:STANDARD
DTSTART:20250727T124626
TZOFFSETFROM:+0000
TZOFFSETTO:+0000
END:STANDARD
END:VTIMEZONE
BEGIN:VEVENT
UID:69ea14a25576b
DTSTAMP:20260423T124626Z
SUMMARY:AHI: Advanced Management and Leadership Essentials (Mini Course)
URL:https://ms-cpa.org/catalog/events/4309808-ahi-advanced-management-and-l
 eadership-essentials-mini-course-2027-13-01
DTSTART;TZID=America/Chicago:20270113T150000
DTEND;TZID=America/Chicago:20270113T164000
END:VEVENT
END:VCALENDAR