BEGIN:VCALENDAR
VERSION:2.0
PRODID:spatie/icalendar-generator
NAME:K2's Ethics And Technology 26-27
X-WR-CALNAME:K2's Ethics And Technology 26-27
BEGIN:VTIMEZONE
TZID:America/Chicago
BEGIN:STANDARD
DTSTART:20261101T010000
TZOFFSETFROM:-0500
TZOFFSETTO:-0600
END:STANDARD
BEGIN:DAYLIGHT
DTSTART:20270314T010000
TZOFFSETFROM:-0600
TZOFFSETTO:-0500
END:DAYLIGHT
END:VTIMEZONE
BEGIN:VTIMEZONE
TZID:UTC
BEGIN:STANDARD
DTSTART:20250729T151702
TZOFFSETFROM:+0000
TZOFFSETTO:+0000
END:STANDARD
END:VTIMEZONE
BEGIN:VEVENT
UID:69ecdaee0ad6a
DTSTAMP:20260425T151702Z
SUMMARY:K2's Ethics And Technology 26-27
URL:https://ms-cpa.org/catalog/events/4306661-k2s-ethics-and-technology-26-
 27-2027-03-02
DTSTART;TZID=America/Chicago:20270203T100000
DTEND;TZID=America/Chicago:20270203T133000
END:VEVENT
END:VCALENDAR