BEGIN:VCALENDAR
VERSION:2.0
PRODID:spatie/icalendar-generator
NAME:Vows Made Visible: Ethics and the Call of the Profession 26-27
X-WR-CALNAME:Vows Made Visible: Ethics and the Call of the Profession 26-27
BEGIN:VTIMEZONE
TZID:America/Chicago
BEGIN:STANDARD
DTSTART:20261101T010000
TZOFFSETFROM:-0500
TZOFFSETTO:-0600
END:STANDARD
BEGIN:DAYLIGHT
DTSTART:20270314T010000
TZOFFSETFROM:-0600
TZOFFSETTO:-0500
END:DAYLIGHT
END:VTIMEZONE
BEGIN:VTIMEZONE
TZID:UTC
BEGIN:STANDARD
DTSTART:20250725T083053
TZOFFSETFROM:+0000
TZOFFSETTO:+0000
END:STANDARD
END:VTIMEZONE
BEGIN:VEVENT
UID:69e735bd0a0d8
DTSTAMP:20260421T083053Z
SUMMARY:Vows Made Visible: Ethics and the Call of the Profession 26-27
URL:https://ms-cpa.org/catalog/events/4305738-vows-made-visible-ethics-and-
 the-call-of-the-profession-26-27-2026-16-12
DTSTART;TZID=America/Chicago:20261216T100000
DTEND;TZID=America/Chicago:20261216T133000
END:VEVENT
END:VCALENDAR