BEGIN:VCALENDAR
VERSION:2.0
PRODID:spatie/icalendar-generator
NAME:Tax Issues for Real Estate and Homebuilding 26-27
X-WR-CALNAME:Tax Issues for Real Estate and Homebuilding 26-27
BEGIN:VTIMEZONE
TZID:America/Chicago
BEGIN:STANDARD
DTSTART:20261101T010000
TZOFFSETFROM:-0500
TZOFFSETTO:-0600
END:STANDARD
BEGIN:DAYLIGHT
DTSTART:20270314T010000
TZOFFSETFROM:-0600
TZOFFSETTO:-0500
END:DAYLIGHT
END:VTIMEZONE
BEGIN:VTIMEZONE
TZID:UTC
BEGIN:STANDARD
DTSTART:20250723T124124
TZOFFSETFROM:+0000
TZOFFSETTO:+0000
END:STANDARD
END:VTIMEZONE
BEGIN:VEVENT
UID:69e4cd7462f95
DTSTAMP:20260419T124124Z
SUMMARY:Tax Issues for Real Estate and Homebuilding 26-27
URL:https://ms-cpa.org/catalog/events/4305066-tax-issues-for-real-estate-an
 d-homebuilding-26-27-2026-04-12
DTSTART;TZID=America/Chicago:20261204T100000
DTEND;TZID=America/Chicago:20261204T133000
END:VEVENT
END:VCALENDAR