BEGIN:VCALENDAR
VERSION:2.0
PRODID:spatie/icalendar-generator
NAME:Retirement Advising: Accumulation and Decumulation Strategies 26-27
X-WR-CALNAME:Retirement Advising: Accumulation and Decumulation Strategies 
 26-27
BEGIN:VTIMEZONE
TZID:America/Chicago
BEGIN:STANDARD
DTSTART:20261101T010000
TZOFFSETFROM:-0500
TZOFFSETTO:-0600
END:STANDARD
BEGIN:DAYLIGHT
DTSTART:20270314T010000
TZOFFSETFROM:-0600
TZOFFSETTO:-0500
END:DAYLIGHT
END:VTIMEZONE
BEGIN:VTIMEZONE
TZID:UTC
BEGIN:STANDARD
DTSTART:20250725T083646
TZOFFSETFROM:+0000
TZOFFSETTO:+0000
END:STANDARD
END:VTIMEZONE
BEGIN:VEVENT
UID:69e7371e9d64e
DTSTAMP:20260421T083646Z
SUMMARY:Retirement Advising: Accumulation and Decumulation Strategies 26-27
URL:https://ms-cpa.org/catalog/events/4304279-retirement-advising-accumulat
 ion-and-decumulation-strategies-26-27-2026-08-12
DTSTART;TZID=America/Chicago:20261208T100000
DTEND;TZID=America/Chicago:20261208T173000
END:VEVENT
END:VCALENDAR