BEGIN:VCALENDAR
VERSION:2.0
PRODID:spatie/icalendar-generator
NAME:Build Your Team: Get Results 26-27
X-WR-CALNAME:Build Your Team: Get Results 26-27
BEGIN:VTIMEZONE
TZID:America/Chicago
BEGIN:STANDARD
DTSTART:20261101T010000
TZOFFSETFROM:-0500
TZOFFSETTO:-0600
END:STANDARD
BEGIN:DAYLIGHT
DTSTART:20270314T010000
TZOFFSETFROM:-0600
TZOFFSETTO:-0500
END:DAYLIGHT
END:VTIMEZONE
BEGIN:VTIMEZONE
TZID:UTC
BEGIN:STANDARD
DTSTART:20250729T214706
TZOFFSETFROM:+0000
TZOFFSETTO:+0000
END:STANDARD
END:VTIMEZONE
BEGIN:VEVENT
UID:69ed365a298b6
DTSTAMP:20260425T214706Z
SUMMARY:Build Your Team: Get Results 26-27
URL:https://ms-cpa.org/catalog/events/4303637-build-your-team-get-results-2
 6-27-2027-11-01
DTSTART;TZID=America/Chicago:20270111T080000
DTEND;TZID=America/Chicago:20270111T153000
END:VEVENT
END:VCALENDAR