BEGIN:VCALENDAR
VERSION:2.0
PRODID:spatie/icalendar-generator
NAME:Accounting and Auditing Conference
X-WR-CALNAME:Accounting and Auditing Conference
BEGIN:VTIMEZONE
TZID:America/Chicago
BEGIN:STANDARD
DTSTART:20251102T010000
TZOFFSETFROM:-0500
TZOFFSETTO:-0600
END:STANDARD
BEGIN:DAYLIGHT
DTSTART:20260308T010000
TZOFFSETFROM:-0600
TZOFFSETTO:-0500
END:DAYLIGHT
BEGIN:STANDARD
DTSTART:20261101T010000
TZOFFSETFROM:-0500
TZOFFSETTO:-0600
END:STANDARD
END:VTIMEZONE
BEGIN:VTIMEZONE
TZID:UTC
BEGIN:STANDARD
DTSTART:20250723T215657
TZOFFSETFROM:+0000
TZOFFSETTO:+0000
END:STANDARD
END:VTIMEZONE
BEGIN:VEVENT
UID:69e54fa90cb19
DTSTAMP:20260419T215657Z
SUMMARY:Accounting and Auditing Conference
LOCATION:306 Southampton Row\, Ridgeland\, Madison County\, Mississippi 391
 57
URL:https://ms-cpa.org/catalog/events/4301613-accounting-and-auditing-confe
 rence-2026-21-05
DTSTART;TZID=America/Chicago:20260521T083000
DTEND;TZID=America/Chicago:20260521T163000
END:VEVENT
END:VCALENDAR