BEGIN:VCALENDAR
VERSION:2.0
PRODID:spatie/icalendar-generator
NAME:Business and Industry: Management Development Conference
X-WR-CALNAME:Business and Industry: Management Development Conference
BEGIN:VTIMEZONE
TZID:America/Chicago
BEGIN:STANDARD
DTSTART:20251102T010000
TZOFFSETFROM:-0500
TZOFFSETTO:-0600
END:STANDARD
BEGIN:DAYLIGHT
DTSTART:20260308T010000
TZOFFSETFROM:-0600
TZOFFSETTO:-0500
END:DAYLIGHT
BEGIN:STANDARD
DTSTART:20261101T010000
TZOFFSETFROM:-0500
TZOFFSETTO:-0600
END:STANDARD
END:VTIMEZONE
BEGIN:VTIMEZONE
TZID:UTC
BEGIN:STANDARD
DTSTART:20250723T215508
TZOFFSETFROM:+0000
TZOFFSETTO:+0000
END:STANDARD
END:VTIMEZONE
BEGIN:VEVENT
UID:69e54f3c3b813
DTSTAMP:20260419T215508Z
SUMMARY:Day 1: Business and Industry: Management Development Conference
LOCATION:306 Southampton Row\, Ridgeland\, Madison County\, Mississippi 391
 57
URL:https://ms-cpa.org/catalog/events/4301603-business-and-industry-managem
 ent-development-conference-2026-13-05
DTSTART;TZID=America/Chicago:20260513T083000
DTEND;TZID=America/Chicago:20260513T163000
END:VEVENT
BEGIN:VEVENT
UID:69e54f3c3e57f
DTSTAMP:20260419T215508Z
SUMMARY:Day 2: Business and Industry: Management Development Conference
LOCATION:306 Southampton Row\, Ridgeland\, Madison County\, Mississippi 391
 57
URL:https://ms-cpa.org/catalog/events/4301603-business-and-industry-managem
 ent-development-conference-2026-13-05
DTSTART;TZID=America/Chicago:20260514T083000
DTEND;TZID=America/Chicago:20260514T163000
END:VEVENT
END:VCALENDAR