BEGIN:VCALENDAR
VERSION:2.0
PRODID:spatie/icalendar-generator
NAME:Livestream Only: MS Technology Conference
X-WR-CALNAME:Livestream Only: MS Technology Conference
BEGIN:VTIMEZONE
TZID:America/Chicago
BEGIN:STANDARD
DTSTART:20251102T010000
TZOFFSETFROM:-0500
TZOFFSETTO:-0600
END:STANDARD
BEGIN:DAYLIGHT
DTSTART:20260308T010000
TZOFFSETFROM:-0600
TZOFFSETTO:-0500
END:DAYLIGHT
BEGIN:STANDARD
DTSTART:20261101T010000
TZOFFSETFROM:-0500
TZOFFSETTO:-0600
END:STANDARD
END:VTIMEZONE
BEGIN:VTIMEZONE
TZID:UTC
BEGIN:STANDARD
DTSTART:20250723T215709
TZOFFSETFROM:+0000
TZOFFSETTO:+0000
END:STANDARD
END:VTIMEZONE
BEGIN:VEVENT
UID:69e54fb523246
DTSTAMP:20260419T215709Z
SUMMARY:Livestream Only: MS Technology Conference
URL:https://ms-cpa.org/catalog/events/4301596-livestream-only-ms-technology
 -conference-2026-11-05
DTSTART;TZID=America/Chicago:20260511T083000
DTEND;TZID=America/Chicago:20260512T163000
END:VEVENT
END:VCALENDAR