BEGIN:VCALENDAR
VERSION:2.0
PRODID:spatie/icalendar-generator
NAME:Liquidity & Uncertainty Disclosures for Nonprofits
X-WR-CALNAME:Liquidity & Uncertainty Disclosures for Nonprofits
BEGIN:VTIMEZONE
TZID:America/Chicago
BEGIN:STANDARD
DTSTART:20251102T010000
TZOFFSETFROM:-0500
TZOFFSETTO:-0600
END:STANDARD
BEGIN:DAYLIGHT
DTSTART:20260308T010000
TZOFFSETFROM:-0600
TZOFFSETTO:-0500
END:DAYLIGHT
END:VTIMEZONE
BEGIN:VTIMEZONE
TZID:UTC
BEGIN:STANDARD
DTSTART:20250727T082030
TZOFFSETFROM:+0000
TZOFFSETTO:+0000
END:STANDARD
END:VTIMEZONE
BEGIN:VEVENT
UID:69e9d64e8200f
DTSTAMP:20260423T082030Z
SUMMARY:Liquidity & Uncertainty Disclosures for Nonprofits
URL:https://ms-cpa.org/catalog/events/56031-liquidity-uncertainty-disclosur
 es-for-nonprofits-2026-17-04
DTSTART;TZID=America/Chicago:20260417T110000
DTEND;TZID=America/Chicago:20260417T124700
END:VEVENT
END:VCALENDAR